BEGIN:VCALENDAR
VERSION:2.0
PRODID:-// - ECPv6.15.20//NONSGML v1.0//EN
CALSCALE:GREGORIAN
METHOD:PUBLISH
X-ORIGINAL-URL:https://chematsustain.eu
X-WR-CALDESC:Events for 
REFRESH-INTERVAL;VALUE=DURATION:PT1H
X-Robots-Tag:noindex
X-PUBLISHED-TTL:PT1H
BEGIN:VTIMEZONE
TZID:UTC
BEGIN:STANDARD
TZOFFSETFROM:+0000
TZOFFSETTO:+0000
TZNAME:UTC
DTSTART:20250101T000000
END:STANDARD
END:VTIMEZONE
BEGIN:VEVENT
DTSTART;TZID=UTC:20260213T100000
DTEND;TZID=UTC:20260213T120000
DTSTAMP:20260424T210634
CREATED:20260126T085122Z
LAST-MODIFIED:20260126T085124Z
UID:563-1770976800-1770984000@chematsustain.eu
SUMMARY:ProScale: The Next Chapter – Free online webinar
DESCRIPTION:IVL is organizing an informative webinar on recent updates of the ProScale method suite. The event is being organized in collaboration of several EU projects as well as Swedish national projects. \n\n\n\nProScale equips Life Cycle Assessment (LCA) practitioners with a simple and efficient way to integrate hazard and exposure data into environmental assessments. It draws on regulatory data to highlight chemical impact potentials across every stage of a product’s life cycle. \n\n\n\nJoin us on 13 February 2026\, from 10:00 to 12:00 CET\, for an exclusive overview of the latest enhancements to the ProScale methodology. This session is ideal for LCA practitioners\, sustainability managers\, SSbD assessors\, EPD authors\, and others seeking to deepen their toxicological insights in a sustainability context. \n\n\n\n[Read more and register on the official event page.]
URL:https://chematsustain.eu/event/proscale-the-next-chapter-free-online-webinar/
ATTACH;FMTTYPE=image/jpeg:https://chematsustain.eu/wp-content/uploads/2026/01/Proscale_monster_namn.jpeg
END:VEVENT
END:VCALENDAR