BEGIN:VCALENDAR
VERSION:2.0
PRODID:-// - ECPv6.15.20//NONSGML v1.0//EN
CALSCALE:GREGORIAN
METHOD:PUBLISH
X-ORIGINAL-URL:https://chematsustain.eu
X-WR-CALDESC:Events for 
REFRESH-INTERVAL;VALUE=DURATION:PT1H
X-Robots-Tag:noindex
X-PUBLISHED-TTL:PT1H
BEGIN:VTIMEZONE
TZID:UTC
BEGIN:STANDARD
TZOFFSETFROM:+0000
TZOFFSETTO:+0000
TZNAME:UTC
DTSTART:20240101T000000
END:STANDARD
END:VTIMEZONE
BEGIN:VEVENT
DTSTART;TZID=UTC:20250328T100000
DTEND;TZID=UTC:20250328T113000
DTSTAMP:20260425T134747
CREATED:20250305T203643Z
LAST-MODIFIED:20250305T203953Z
UID:426-1743156000-1743161400@chematsustain.eu
SUMMARY:CheMatSustain Facility – Join Our Co-Design Workshop!
DESCRIPTION:Context:\n\n\n\nNanomaterials (NMs) are revolutionizing industries—from healthcare and energy to manufacturing and consumer products—driving groundbreaking innovations. However\, ensuring their safe and sustainable use requires a strong collaboration between scientific research and multiple stakeholders. \n\n\n\nTarget Participants:\n\n\n\n✅ Industry professionals seeking better tools for integrating safe and sustainable nanomaterials.✅ Policy experts ensuring digital solutions align with nanomaterial regulations.✅ Researchers & scientists advancing science-driven safety and sustainability.✅ Citizen groups & NGOs advocating for transparency & public trust in nanomaterial use. \n\n\n\nObjectives:\n\n\n\n🔹 Identify NMs relevant Stakeholder NeedsKey challenges and priorities for industry\, policy\, research\, and society perspectives. \n\n\n\n🔹 Collective ValidationValidate the structure\, functionalities\, and accessibility of the CheMatSustain Facility. \n\n\n\n🔹 Foster NMs and SSbD relevant Collaboration Strengthen engagement among policymakers\, industry\, researchers\, and citizens to ensure the facility serves as a knowledge hub and a decision-support tool. \n\n\n\nWhy Join?\n\n\n\n🔹 Shape the Future \n\n\n\nHelp design a platform that aligns with your sector’s needs.🔹 Collaborate Across Sectors \n\n\n\nConnect with industry leaders\, policymakers\, researchers\, and citizen groups.🔹 Co-Create Solutions \n\n\n\nDefine the key functionalities required to support safe and sustainable nanomaterials.🔹 Drive Meaningful Impact \n\n\n\nInfluence a knowledge hub and decision-support tool for better risk assessment\, regulatory alignment\, and industry adoption. \n\n\n\nExpected Outcomes:\n\n\n\n💡 Format: Highly interactive\, featuring discussions\, breakout sessions\, and live digital collaboration. \n\n\n\n💬 Share Your Perspective – Discuss key challenges & opportunities in nanomaterials safety and sustainability.🎯 Define Key Priorities – Work together to identify what the facility should offer.🛠️ Shape the Platform’s Features – Co-design tools for risk assessment\, regulatory alignment\, and industry needs.📢 Make Your Voice Heard – Vote on the most essential features of the platform. \n\n\n\nOrganizer:\n\n\n\nMeet the CheMatSustain Consortium \n\n\n\nRegistration:\n\n\n\nThe workshop is free of charge and will be held online.  🔗 Register Here 🔗
URL:https://chematsustain.eu/event/chematsustain-facility-join-our-co-design-workshop/
ATTACH;FMTTYPE=image/jpeg:https://chematsustain.eu/wp-content/uploads/2025/03/Picture_CMS_Event4-scaled.jpg
END:VEVENT
END:VCALENDAR