BEGIN:VCALENDAR
VERSION:2.0
PRODID:-// - ECPv6.15.20//NONSGML v1.0//EN
CALSCALE:GREGORIAN
METHOD:PUBLISH
X-ORIGINAL-URL:https://chematsustain.eu
X-WR-CALDESC:Events for 
REFRESH-INTERVAL;VALUE=DURATION:PT1H
X-Robots-Tag:noindex
X-PUBLISHED-TTL:PT1H
BEGIN:VTIMEZONE
TZID:UTC
BEGIN:STANDARD
TZOFFSETFROM:+0000
TZOFFSETTO:+0000
TZNAME:UTC
DTSTART:20250101T000000
END:STANDARD
END:VTIMEZONE
BEGIN:VEVENT
DTSTART;TZID=UTC:20260213T100000
DTEND;TZID=UTC:20260213T120000
DTSTAMP:20260425T135240
CREATED:20260126T085122Z
LAST-MODIFIED:20260126T085124Z
UID:563-1770976800-1770984000@chematsustain.eu
SUMMARY:ProScale: The Next Chapter – Free online webinar
DESCRIPTION:IVL is organizing an informative webinar on recent updates of the ProScale method suite. The event is being organized in collaboration of several EU projects as well as Swedish national projects. \n\n\n\nProScale equips Life Cycle Assessment (LCA) practitioners with a simple and efficient way to integrate hazard and exposure data into environmental assessments. It draws on regulatory data to highlight chemical impact potentials across every stage of a product’s life cycle. \n\n\n\nJoin us on 13 February 2026\, from 10:00 to 12:00 CET\, for an exclusive overview of the latest enhancements to the ProScale methodology. This session is ideal for LCA practitioners\, sustainability managers\, SSbD assessors\, EPD authors\, and others seeking to deepen their toxicological insights in a sustainability context. \n\n\n\n[Read more and register on the official event page.]
URL:https://chematsustain.eu/event/proscale-the-next-chapter-free-online-webinar/
ATTACH;FMTTYPE=image/jpeg:https://chematsustain.eu/wp-content/uploads/2026/01/Proscale_monster_namn.jpeg
END:VEVENT
BEGIN:VEVENT
DTSTART;TZID=UTC:20260310T000000
DTEND;TZID=UTC:20260311T235959
DTSTAMP:20260425T135240
CREATED:20251201T065321Z
LAST-MODIFIED:20251201T065440Z
UID:552-1773100800-1773273599@chematsustain.eu
SUMMARY:CheMatSustain Will Take Part in ANTHOS’26 in Vienna
DESCRIPTION:We’re excited to share that CheMatSustain will be represented by Hamburg University of Applied Sciences\, Swedish Environmental Research Institute\, and Technical University of Denmark at ANTHOS’26\, the next major European event dedicated to advancing safe and sustainable (nano)materials. \n\n\n\nThe next edition of ANTHOS will be held 10–11 March 2026 in Vienna\, preceded by a networking event on 9 March. The TWELVE Conference Center will host the sessions\, and attendance is free for all registered participants. More details can be found on the event website: https://www.bnn.at/events/anthos26/ \n\n\n\nANTHOS’26 continues the work started at ANTHOS’24\, bringing together researchers\, regulators\, industry\, and SMEs working on safety and sustainability in advanced materials\, nanomaterials\, and chemicals. This year’s program connects stakeholder needs with scientific solutions\, featuring sessions on policy expectations\, method development\, tools\, and future directions for the field. \n\n\n\nCheMatSustain\, together with 10 other EU-funded projects\, is co-developing the conference programme. The event will conclude with concrete action points and a shared outlook for the coming years. \n\n\n\nWe look forward to contributing to this collaborative effort and engaging with the broader community\, working toward safer and more sustainable innovation across Europe. Stay tuned for more updates — and we hope to see many of you in Vienna!
URL:https://chematsustain.eu/event/chematsustain-will-take-part-in-anthos26-in-vienna/
LOCATION:twelve conference center\, Wienerbergstraße 11 Hertha-Firnberg-Straße 8\, Wien\, 1100\, Austria
ATTACH;FMTTYPE=image/png:https://chematsustain.eu/wp-content/uploads/2025/12/Picture_CMS_Event8.png
END:VEVENT
BEGIN:VEVENT
DTSTART;TZID=UTC:20260617T090000
DTEND;TZID=UTC:20260617T140000
DTSTAMP:20260425T135240
CREATED:20260413T191224Z
LAST-MODIFIED:20260413T191320Z
UID:584-1781686800-1781704800@chematsustain.eu
SUMMARY:CheMatSustain Stakeholder Event - Advanced materials: how to go from Data to Design through the scope of SSbD?
DESCRIPTION:Join the Future of Safe and Sustainable Innovation! \n\n\n\nAre you ready to learn how to turn data into design and drive the next wave of Safe and Sustainable by Design (SSbD) materials? \n\n\n\nBe part of the hybrid event “Advanced materials: How to go from Data to Design through the scope of SSbD?”\, envisioned for bringing together key players across industries and research fields.This is your chance to connect with experts and innovators from the textile\, cosmetics\, and bio-based industries\, along with industrial partners\, data users\, and developers of SSbD tools and databases. Together\, we’ll explore how data-driven insights can safely and sustainably transform the way advanced materials are conceived\, designed\, and scaled.  \n\n\n\nWhy join? \n\n\n\n\nNetwork with EU project partners and industry frontrunners driving sustainable transformation\n\n\n\n\n\nLearn how SSbD principles are shaping the materials of tomorrow\n\n\n\n\n\nDiscover pioneering case studies and cross-sector synergies\n\n\n\n\nLet’s co-create the future of safer\, smarter materials – from data to design!
URL:https://chematsustain.eu/event/chematsustain-stakeholder-event-advanced-materials-how-to-go-from-data-to-design-through-the-scope-of-ssbd/
LOCATION:Valencia\, Valencia\, Spain
ATTACH;FMTTYPE=image/png:https://chematsustain.eu/wp-content/uploads/2026/04/Untitled-design-scaled.png
END:VEVENT
END:VCALENDAR