BEGIN:VCALENDAR
VERSION:2.0
PRODID:-// - ECPv6.15.20//NONSGML v1.0//EN
CALSCALE:GREGORIAN
METHOD:PUBLISH
X-ORIGINAL-URL:https://chematsustain.eu
X-WR-CALDESC:Events for 
REFRESH-INTERVAL;VALUE=DURATION:PT1H
X-Robots-Tag:noindex
X-PUBLISHED-TTL:PT1H
BEGIN:VTIMEZONE
TZID:UTC
BEGIN:STANDARD
TZOFFSETFROM:+0000
TZOFFSETTO:+0000
TZNAME:UTC
DTSTART:20240101T000000
END:STANDARD
END:VTIMEZONE
BEGIN:VEVENT
DTSTART;TZID=UTC:20250625T080000
DTEND;TZID=UTC:20250626T200000
DTSTAMP:20260425T104557
CREATED:20250117T153115Z
LAST-MODIFIED:20250207T112702Z
UID:402-1750838400-1750968000@chematsustain.eu
SUMMARY:CheMatSustain Third General Assembly
DESCRIPTION:We are happy to announce that our 3rd General Assembly Meeting will be held in the picturesque city of Bologna\, Italy 25-26 June 2025. The General Assembly will bring together project partners\, EU officers and advisory board members to review and discuss technical insights\, scientific progress and further research agenda for making the Chemicals Strategy for Sustainability effective.
URL:https://chematsustain.eu/event/chematsustain-second-general-assembly/
LOCATION:Bologna\, Bologna\, Italy
ATTACH;FMTTYPE=image/jpeg:https://chematsustain.eu/wp-content/uploads/2025/01/Picture_CMS_Event2-scaled.jpg
END:VEVENT
END:VCALENDAR